BEGIN:VCALENDAR
VERSION:2.0
PRODID:-//Grand Oaks Camp - ECPv6.15.8//NONSGML v1.0//EN
CALSCALE:GREGORIAN
METHOD:PUBLISH
X-WR-CALNAME:Grand Oaks Camp
X-ORIGINAL-URL:https://grandoaks.camp
X-WR-CALDESC:Events for Grand Oaks Camp
REFRESH-INTERVAL;VALUE=DURATION:PT1H
X-Robots-Tag:noindex
X-PUBLISHED-TTL:PT1H
BEGIN:VTIMEZONE
TZID:America/Chicago
BEGIN:DAYLIGHT
TZOFFSETFROM:-0600
TZOFFSETTO:-0500
TZNAME:CDT
DTSTART:20210314T080000
END:DAYLIGHT
BEGIN:STANDARD
TZOFFSETFROM:-0500
TZOFFSETTO:-0600
TZNAME:CST
DTSTART:20211107T070000
END:STANDARD
BEGIN:DAYLIGHT
TZOFFSETFROM:-0600
TZOFFSETTO:-0500
TZNAME:CDT
DTSTART:20220313T080000
END:DAYLIGHT
BEGIN:STANDARD
TZOFFSETFROM:-0500
TZOFFSETTO:-0600
TZNAME:CST
DTSTART:20221106T070000
END:STANDARD
BEGIN:DAYLIGHT
TZOFFSETFROM:-0600
TZOFFSETTO:-0500
TZNAME:CDT
DTSTART:20230312T080000
END:DAYLIGHT
BEGIN:STANDARD
TZOFFSETFROM:-0500
TZOFFSETTO:-0600
TZNAME:CST
DTSTART:20231105T070000
END:STANDARD
BEGIN:DAYLIGHT
TZOFFSETFROM:-0600
TZOFFSETTO:-0500
TZNAME:CDT
DTSTART:20240310T080000
END:DAYLIGHT
BEGIN:STANDARD
TZOFFSETFROM:-0500
TZOFFSETTO:-0600
TZNAME:CST
DTSTART:20241103T070000
END:STANDARD
BEGIN:DAYLIGHT
TZOFFSETFROM:-0600
TZOFFSETTO:-0500
TZNAME:CDT
DTSTART:20250309T080000
END:DAYLIGHT
BEGIN:STANDARD
TZOFFSETFROM:-0500
TZOFFSETTO:-0600
TZNAME:CST
DTSTART:20251102T070000
END:STANDARD
BEGIN:DAYLIGHT
TZOFFSETFROM:-0600
TZOFFSETTO:-0500
TZNAME:CDT
DTSTART:20260308T080000
END:DAYLIGHT
BEGIN:STANDARD
TZOFFSETFROM:-0500
TZOFFSETTO:-0600
TZNAME:CST
DTSTART:20261101T070000
END:STANDARD
BEGIN:DAYLIGHT
TZOFFSETFROM:-0600
TZOFFSETTO:-0500
TZNAME:CDT
DTSTART:20270314T080000
END:DAYLIGHT
BEGIN:STANDARD
TZOFFSETFROM:-0500
TZOFFSETTO:-0600
TZNAME:CST
DTSTART:20271107T070000
END:STANDARD
END:VTIMEZONE
BEGIN:VEVENT
DTSTART;TZID=America/Chicago:20260417T100000
DTEND;TZID=America/Chicago:20260418T160000
DTSTAMP:20260421T165643
CREATED:20260304T203939Z
LAST-MODIFIED:20260304T204720Z
UID:2997-1776420000-1776528000@grandoaks.camp
SUMMARY:Omaha BC Mission Groups Camp
DESCRIPTION: 
URL:https://grandoaks.camp/event/omaha-bc-mission-groups-camp/
LOCATION:Grand Oaks Baptist Assembly\, Inc.\, 9463 State Highway 190\, Chillicothe\, MO\, 64601\, United States
CATEGORIES:Retreats
END:VEVENT
BEGIN:VEVENT
DTSTART;VALUE=DATE:20260410
DTEND;VALUE=DATE:20260412
DTSTAMP:20260421T165643
CREATED:20260304T202851Z
LAST-MODIFIED:20260304T202851Z
UID:2989-1775779200-1775951999@grandoaks.camp
SUMMARY:River of Life Troop Retreat
DESCRIPTION: 
URL:https://grandoaks.camp/event/river-of-life-troop-retreat/
LOCATION:Retreat Center – Grand Oaks Baptist Assembly\, Inc.\, 9463 State Highway 190\, Chillicothe\, MO\, 64601\, United States
CATEGORIES:Retreats
END:VEVENT
BEGIN:VEVENT
DTSTART;VALUE=DATE:20260320
DTEND;VALUE=DATE:20260323
DTSTAMP:20260421T165643
CREATED:20260304T202628Z
LAST-MODIFIED:20260304T202628Z
UID:2987-1773964800-1774223999@grandoaks.camp
SUMMARY:Believers Church HLG Women's Retreat
DESCRIPTION: 
URL:https://grandoaks.camp/event/believers-church-hlg-womens-retreat/
LOCATION:Grand Oaks Baptist Assembly\, Inc.\, 9463 State Highway 190\, Chillicothe\, MO\, 64601\, United States
CATEGORIES:Retreats
END:VEVENT
BEGIN:VEVENT
DTSTART;VALUE=DATE:20260306
DTEND;VALUE=DATE:20260308
DTSTAMP:20260421T165643
CREATED:20260304T202355Z
LAST-MODIFIED:20260304T202355Z
UID:2982-1772755200-1772927999@grandoaks.camp
SUMMARY:Missouri Valley Women's Retreat
DESCRIPTION:
URL:https://grandoaks.camp/event/missouri-valley-womens-retreat/
LOCATION:Grand Oaks Baptist Assembly\, Inc.\, 9463 State Highway 190\, Chillicothe\, MO\, 64601\, United States
CATEGORIES:Retreats
END:VEVENT
BEGIN:VEVENT
DTSTART;TZID=America/Chicago:20250926T170000
DTEND;TZID=America/Chicago:20250928T190000
DTSTAMP:20260421T165643
CREATED:20250205T034426Z
LAST-MODIFIED:20250205T034527Z
UID:2829-1758906000-1759086000@grandoaks.camp
SUMMARY:Calvary Baptist Church Women's Retreat
DESCRIPTION: 
URL:https://grandoaks.camp/event/calvary-baptist-church-womens-retreat/
LOCATION:Grand Oaks Baptist Assembly\, Inc.\, 9463 State Highway 190\, Chillicothe\, MO\, 64601\, United States
CATEGORIES:Retreats
END:VEVENT
BEGIN:VEVENT
DTSTART;TZID=America/Chicago:20250515T100000
DTEND;TZID=America/Chicago:20250518T080000
DTSTAMP:20260421T165643
CREATED:20250311T144912Z
LAST-MODIFIED:20250311T144937Z
UID:2872-1747303200-1747555200@grandoaks.camp
SUMMARY:Kairos Prison Ministry Retreat
DESCRIPTION:Judy Lee – Leader
URL:https://grandoaks.camp/event/kairos-prison-ministry-retreat-2/
LOCATION:Retreat Center – Grand Oaks Baptist Assembly\, Inc.\, 9463 State Highway 190\, Chillicothe\, MO\, 64601\, United States
CATEGORIES:Retreats
END:VEVENT
BEGIN:VEVENT
DTSTART;TZID=America/Chicago:20250501T140000
DTEND;TZID=America/Chicago:20250504T120000
DTSTAMP:20260421T165643
CREATED:20250205T034306Z
LAST-MODIFIED:20250205T034306Z
UID:2827-1746108000-1746360000@grandoaks.camp
SUMMARY:Bikers for Christ Retreat
DESCRIPTION: 
URL:https://grandoaks.camp/event/bikers-for-christ-retreat-2/
LOCATION:Grand Oaks Baptist Assembly\, Inc.\, 9463 State Highway 190\, Chillicothe\, MO\, 64601\, United States
CATEGORIES:Retreats
END:VEVENT
BEGIN:VEVENT
DTSTART;TZID=America/Chicago:20250425T140000
DTEND;TZID=America/Chicago:20250426T140000
DTSTAMP:20260421T165643
CREATED:20250311T144407Z
LAST-MODIFIED:20250311T144444Z
UID:2867-1745589600-1745676000@grandoaks.camp
SUMMARY:Strong Tower Women's Retreat
DESCRIPTION:Susan Wilson – Leader
URL:https://grandoaks.camp/event/strong-tower-womens-retreat-4/
LOCATION:Retreat Center – Grand Oaks Baptist Assembly\, Inc.\, 9463 State Highway 190\, Chillicothe\, MO\, 64601\, United States
CATEGORIES:Retreats
END:VEVENT
BEGIN:VEVENT
DTSTART;TZID=America/Chicago:20250307T140000
DTEND;TZID=America/Chicago:20250308T140000
DTSTAMP:20260421T165643
CREATED:20250205T033958Z
LAST-MODIFIED:20250210T181211Z
UID:2823-1741356000-1741442400@grandoaks.camp
SUMMARY:MVBA Women's Retreat
DESCRIPTION: 
URL:https://grandoaks.camp/event/mvba-womens-retreat-4/
LOCATION:Grand Oaks Baptist Assembly\, Inc.\, 9463 State Highway 190\, Chillicothe\, MO\, 64601\, United States
CATEGORIES:Retreats
END:VEVENT
BEGIN:VEVENT
DTSTART;TZID=America/Chicago:20240920T150000
DTEND;TZID=America/Chicago:20240922T130000
DTSTAMP:20260421T165643
CREATED:20240321T194226Z
LAST-MODIFIED:20240321T195603Z
UID:2718-1726844400-1727010000@grandoaks.camp
SUMMARY:Church of God Marceline Ladies Retreat
DESCRIPTION:Church of God L
URL:https://grandoaks.camp/event/church-of-god-ladies-retreat/
LOCATION:Dining Hall – Grand Oaks Baptist Assembly\, Inc.\, 9463 STATE HIGHWAY 190\, CHILLICOTHE\, MO\, 64601\, United States
CATEGORIES:Retreats
END:VEVENT
BEGIN:VEVENT
DTSTART;VALUE=DATE:20240831
DTEND;VALUE=DATE:20240903
DTSTAMP:20260421T165643
CREATED:20240521T020039Z
LAST-MODIFIED:20240521T020039Z
UID:2773-1725062400-1725321599@grandoaks.camp
SUMMARY:Union Hill Youth Retreat
DESCRIPTION: 
URL:https://grandoaks.camp/event/union-hill-youth-retreat/
LOCATION:Retreat Center – Grand Oaks Baptist Assembly\, Inc.\, 9463 State Highway 190\, Chillicothe\, MO\, 64601\, United States
CATEGORIES:Retreats
END:VEVENT
BEGIN:VEVENT
DTSTART;TZID=America/Chicago:20240412T150000
DTEND;TZID=America/Chicago:20240413T150000
DTSTAMP:20260421T165643
CREATED:20240321T193536Z
LAST-MODIFIED:20240321T193536Z
UID:2710-1712934000-1713020400@grandoaks.camp
SUMMARY:Strong Tower Women's Retreat
DESCRIPTION: 
URL:https://grandoaks.camp/event/strong-tower-womens-retreat-3/
LOCATION:Retreat Center – Grand Oaks Baptist Assembly\, Inc.\, 9463 State Highway 190\, Chillicothe\, MO\, 64601\, United States
CATEGORIES:Retreats
END:VEVENT
BEGIN:VEVENT
DTSTART;VALUE=DATE:20240301
DTEND;VALUE=DATE:20240303
DTSTAMP:20260421T165643
CREATED:20240118T193947Z
LAST-MODIFIED:20240118T193947Z
UID:2670-1709251200-1709423999@grandoaks.camp
SUMMARY:MVBA Women's Retreat
DESCRIPTION: 
URL:https://grandoaks.camp/event/mvba-womens-retreat-3/
LOCATION:Grand Oaks Baptist Assembly\, Inc.\, 9463 State Highway 190\, Chillicothe\, MO\, 64601\, United States
CATEGORIES:Retreats
END:VEVENT
BEGIN:VEVENT
DTSTART;VALUE=DATE:20240209
DTEND;VALUE=DATE:20240211
DTSTAMP:20260421T165643
CREATED:20240118T193833Z
LAST-MODIFIED:20240118T193833Z
UID:2668-1707436800-1707609599@grandoaks.camp
SUMMARY:MVBA Youth Retreat
DESCRIPTION: 
URL:https://grandoaks.camp/event/mvba-youth-retreat-3/
LOCATION:Grand Oaks Baptist Assembly\, Inc.\, 9463 State Highway 190\, Chillicothe\, MO\, 64601\, United States
CATEGORIES:Retreats
END:VEVENT
BEGIN:VEVENT
DTSTART;TZID=America/Chicago:20240119T170000
DTEND;TZID=America/Chicago:20240121T130000
DTSTAMP:20260421T165643
CREATED:20240118T193726Z
LAST-MODIFIED:20240118T193726Z
UID:2666-1705683600-1705842000@grandoaks.camp
SUMMARY:NWMS Navigators Retreat
DESCRIPTION: 
URL:https://grandoaks.camp/event/nwms-navigators-retreat/
LOCATION:Retreat Center – Grand Oaks Baptist Assembly\, Inc.\, 9463 State Highway 190\, Chillicothe\, MO\, 64601\, United States
CATEGORIES:Retreats
END:VEVENT
BEGIN:VEVENT
DTSTART;TZID=America/Chicago:20231201T140000
DTEND;TZID=America/Chicago:20231201T220000
DTSTAMP:20260421T165643
CREATED:20231004T013621Z
LAST-MODIFIED:20231004T013817Z
UID:2661-1701439200-1701468000@grandoaks.camp
SUMMARY:New Life Church Retreat
DESCRIPTION:Jeff Keck \nUsing the Old Lodge
URL:https://grandoaks.camp/event/galt-baptist-church-retreat-4/
LOCATION:Old Lodge\, 9463 State Highway 190\, Chillicothe\, MO\, 64601\, United States
CATEGORIES:Retreats
END:VEVENT
BEGIN:VEVENT
DTSTART;TZID=America/Chicago:20231201T140000
DTEND;TZID=America/Chicago:20231201T220000
DTSTAMP:20260421T165643
CREATED:20230126T174311Z
LAST-MODIFIED:20230126T174311Z
UID:2548-1701439200-1701468000@grandoaks.camp
SUMMARY:New Life Church Retreat
DESCRIPTION:Jeff Keck
URL:https://grandoaks.camp/event/new-life-church-retreat-2/
LOCATION:Old Lodge\, 9463 State Highway 190\, Chillicothe\, MO\, 64601\, United States
CATEGORIES:Retreats
END:VEVENT
BEGIN:VEVENT
DTSTART;TZID=America/Chicago:20231116T100000
DTEND;TZID=America/Chicago:20231119T080000
DTSTAMP:20260421T165643
CREATED:20231004T013156Z
LAST-MODIFIED:20231004T013156Z
UID:2657-1700128800-1700380800@grandoaks.camp
SUMMARY:Kairos Prison Ministry Retreat
DESCRIPTION:Judy Lee  \nUsing the Retreat Center
URL:https://grandoaks.camp/event/kairos-prison-ministry-retreat/
LOCATION:Retreat Center – Grand Oaks Baptist Assembly\, Inc.\, 9463 State Highway 190\, Chillicothe\, MO\, 64601\, United States
CATEGORIES:Lodging,Retreats
END:VEVENT
BEGIN:VEVENT
DTSTART;TZID=America/Chicago:20231103T120000
DTEND;TZID=America/Chicago:20231105T130000
DTSTAMP:20260421T165643
CREATED:20231004T013013Z
LAST-MODIFIED:20231004T013013Z
UID:2655-1699012800-1699189200@grandoaks.camp
SUMMARY:*Pleasant Valley Baptist Church School Retreat
DESCRIPTION:Austin Hays \nUsing Retreat Center\, Dining Hall\, Staff Bunkhouse and Pierce
URL:https://grandoaks.camp/event/pleasant-valley-baptist-church-school-retreat/
LOCATION:Grand Oaks Baptist Assembly\, Inc.\, 9463 State Highway 190\, Chillicothe\, MO\, 64601\, United States
CATEGORIES:Retreats
END:VEVENT
BEGIN:VEVENT
DTSTART;TZID=America/Chicago:20230505T160000
DTEND;TZID=America/Chicago:20230506T140000
DTSTAMP:20260421T165643
CREATED:20230126T174207Z
LAST-MODIFIED:20230126T174207Z
UID:2546-1683302400-1683381600@grandoaks.camp
SUMMARY:New Life Church Retreat
DESCRIPTION:Jeff Keck
URL:https://grandoaks.camp/event/new-life-church-retreat/
LOCATION:Old Lodge\, 9463 State Highway 190\, Chillicothe\, MO\, 64601\, United States
CATEGORIES:Retreats
END:VEVENT
BEGIN:VEVENT
DTSTART;VALUE=DATE:20230504
DTEND;VALUE=DATE:20230508
DTSTAMP:20260421T165643
CREATED:20230125T180059Z
LAST-MODIFIED:20230125T180059Z
UID:2544-1683158400-1683503999@grandoaks.camp
SUMMARY:Bikers for Christ Rally
DESCRIPTION: 
URL:https://grandoaks.camp/event/bikers-for-christ-rally-2/
LOCATION:Retreat Center – Grand Oaks Baptist Assembly\, Inc.\, 9463 State Highway 190\, Chillicothe\, MO\, 64601\, United States
CATEGORIES:Retreats
END:VEVENT
BEGIN:VEVENT
DTSTART;TZID=America/Chicago:20230331T150000
DTEND;TZID=America/Chicago:20230401T150000
DTSTAMP:20260421T165643
CREATED:20230321T201719Z
LAST-MODIFIED:20230321T201719Z
UID:2586-1680274800-1680361200@grandoaks.camp
SUMMARY:Strong Tower Women's Retreat
DESCRIPTION:Susan Wilson
URL:https://grandoaks.camp/event/strong-tower-womens-retreat-2/
LOCATION:Retreat Center – Grand Oaks Baptist Assembly\, Inc.\, 9463 State Highway 190\, Chillicothe\, MO\, 64601\, United States
CATEGORIES:Retreats
END:VEVENT
BEGIN:VEVENT
DTSTART;VALUE=DATE:20230303
DTEND;VALUE=DATE:20230305
DTSTAMP:20260421T165643
CREATED:20230125T163846Z
LAST-MODIFIED:20230125T163846Z
UID:2536-1677801600-1677974399@grandoaks.camp
SUMMARY:MVBA Women's Retreat
DESCRIPTION:Jennie Lee \nUsing Chapel\, Dining Hall for meeting space. \nUsing Staff rooms and Retreat Center for lodging.
URL:https://grandoaks.camp/event/mvba-womens-retreat-2/
LOCATION:Grand Oaks Baptist Assembly\, Inc.\, 9463 State Highway 190\, Chillicothe\, MO\, 64601\, United States
CATEGORIES:Retreats
END:VEVENT
BEGIN:VEVENT
DTSTART;TZID=America/Chicago:20230203T173000
DTEND;TZID=America/Chicago:20230204T143000
DTSTAMP:20260421T165643
CREATED:20230125T161815Z
LAST-MODIFIED:20230125T161815Z
UID:2532-1675445400-1675521000@grandoaks.camp
SUMMARY:MVBA Youth Retreat
DESCRIPTION:Marita Avilez \nUsing Retreat Center
URL:https://grandoaks.camp/event/mvba-youth-retreat-2/
LOCATION:Retreat Center – Grand Oaks Baptist Assembly\, Inc.\, 9463 State Highway 190\, Chillicothe\, MO\, 64601\, United States
CATEGORIES:Retreats
END:VEVENT
BEGIN:VEVENT
DTSTART;TZID=America/Chicago:20230120T170000
DTEND;TZID=America/Chicago:20230122T170000
DTSTAMP:20260421T165643
CREATED:20230125T161605Z
LAST-MODIFIED:20230125T161605Z
UID:2530-1674234000-1674406800@grandoaks.camp
SUMMARY:NWMSU Navigator's Men's Retreat
DESCRIPTION: 
URL:https://grandoaks.camp/event/nwmsu-navigators-mens-retreat/
LOCATION:Retreat Center – Grand Oaks Baptist Assembly\, Inc.\, 9463 State Highway 190\, Chillicothe\, MO\, 64601\, United States
CATEGORIES:Retreats
END:VEVENT
BEGIN:VEVENT
DTSTART;VALUE=DATE:20221111
DTEND;VALUE=DATE:20221113
DTSTAMP:20260421T165643
CREATED:20220831T030954Z
LAST-MODIFIED:20220908T015447Z
UID:2459-1668124800-1668297599@grandoaks.camp
SUMMARY:Park Hill Youth Retreat
DESCRIPTION:Trevor Rosine
URL:https://grandoaks.camp/event/youth-retreat/
LOCATION:Retreat Center – Grand Oaks Baptist Assembly\, Inc.\, 9463 State Highway 190\, Chillicothe\, MO\, 64601\, United States
CATEGORIES:Retreats
END:VEVENT
BEGIN:VEVENT
DTSTART;TZID=America/Chicago:20221110T130000
DTEND;TZID=America/Chicago:20221110T220000
DTSTAMP:20260421T165643
CREATED:20221023T020026Z
LAST-MODIFIED:20221023T020026Z
UID:2475-1668085200-1668117600@grandoaks.camp
SUMMARY:Pastor's Wives Fellowship
DESCRIPTION:Lodge \nTerri Corrick
URL:https://grandoaks.camp/event/pastors-wives-fellowship/
LOCATION:Grand Oaks Baptist Assembly\, Inc.\, 9463 State Highway 190\, Chillicothe\, MO\, 64601\, United States
CATEGORIES:Retreats
END:VEVENT
BEGIN:VEVENT
DTSTART;TZID=America/Chicago:20221104T160000
DTEND;TZID=America/Chicago:20221105T160000
DTSTAMP:20260421T165643
CREATED:20220908T015612Z
LAST-MODIFIED:20220908T015612Z
UID:2470-1667577600-1667664000@grandoaks.camp
SUMMARY:Strong Tower Women's Retreat
DESCRIPTION:Susan Wilson
URL:https://grandoaks.camp/event/strong-tower-womens-retreat/
LOCATION:Retreat Center – Grand Oaks Baptist Assembly\, Inc.\, 9463 State Highway 190\, Chillicothe\, MO\, 64601\, United States
CATEGORIES:Retreats
END:VEVENT
BEGIN:VEVENT
DTSTART;VALUE=DATE:20220916
DTEND;VALUE=DATE:20220918
DTSTAMP:20260421T165643
CREATED:20220816T171017Z
LAST-MODIFIED:20220816T171017Z
UID:2449-1663286400-1663459199@grandoaks.camp
SUMMARY:Green Valley Baptist Church Deacon's Retreat
DESCRIPTION:
URL:https://grandoaks.camp/event/green-valley-baptist-church-deacons-retreat/
LOCATION:Retreat Center – Grand Oaks Baptist Assembly\, Inc.\, 9463 State Highway 190\, Chillicothe\, MO\, 64601\, United States
CATEGORIES:Retreats
END:VEVENT
BEGIN:VEVENT
DTSTART;TZID=America/Chicago:20220915T080000
DTEND;TZID=America/Chicago:20220915T160000
DTSTAMP:20260421T165643
CREATED:20220309T165139Z
LAST-MODIFIED:20220309T165139Z
UID:2399-1663228800-1663257600@grandoaks.camp
SUMMARY:Northwest WMU Day
DESCRIPTION:Beverly Hilton
URL:https://grandoaks.camp/event/northwest-wmu-day/
LOCATION:Dining Hall – Grand Oaks Baptist Assembly\, Inc.\, 9463 STATE HIGHWAY 190\, CHILLICOTHE\, MO\, 64601\, United States
CATEGORIES:Retreats
END:VEVENT
END:VCALENDAR